BEGIN:VCALENDAR
VERSION:2.0
PRODID:-//Elks Lodge 590 -  Iowa City, IA - ECPv6.15.20//NONSGML v1.0//EN
CALSCALE:GREGORIAN
METHOD:PUBLISH
X-ORIGINAL-URL:https://elks590.org
X-WR-CALDESC:Events for Elks Lodge 590 -  Iowa City, IA
REFRESH-INTERVAL;VALUE=DURATION:PT1H
X-Robots-Tag:noindex
X-PUBLISHED-TTL:PT1H
BEGIN:VTIMEZONE
TZID:UTC
BEGIN:STANDARD
TZOFFSETFROM:+0000
TZOFFSETTO:+0000
TZNAME:UTC
DTSTART:20250101T000000
END:STANDARD
END:VTIMEZONE
BEGIN:VEVENT
DTSTART;TZID=UTC:20260505T173000
DTEND;TZID=UTC:20260505T173000
DTSTAMP:20260423T114144
CREATED:20260212T132122Z
LAST-MODIFIED:20260212T132125Z
UID:10000460-1778002200-1778002200@elks590.org
SUMMARY:Super Tuesday
DESCRIPTION:Ladies night; shot gun start
URL:https://elks590.org/event/super-tuesday-2/2026-05-05/
END:VEVENT
BEGIN:VEVENT
DTSTART;TZID=UTC:20260505T173000
DTEND;TZID=UTC:20260505T200000
DTSTAMP:20260423T114144
CREATED:20260212T124300Z
LAST-MODIFIED:20260212T124303Z
UID:10000458-1778002200-1778011200@elks590.org
SUMMARY:Super Tuesday
DESCRIPTION:Ladies night; shot gun start
URL:https://elks590.org/event/super-tuesday/
END:VEVENT
END:VCALENDAR