BEGIN:VCALENDAR
VERSION:2.0
PRODID:-//Elks Lodge 590 -  Iowa City, IA - ECPv6.15.20//NONSGML v1.0//EN
CALSCALE:GREGORIAN
METHOD:PUBLISH
X-ORIGINAL-URL:https://elks590.org
X-WR-CALDESC:Events for Elks Lodge 590 -  Iowa City, IA
REFRESH-INTERVAL;VALUE=DURATION:PT1H
X-Robots-Tag:noindex
X-PUBLISHED-TTL:PT1H
BEGIN:VTIMEZONE
TZID:UTC
BEGIN:STANDARD
TZOFFSETFROM:+0000
TZOFFSETTO:+0000
TZNAME:UTC
DTSTART:20250101T000000
END:STANDARD
END:VTIMEZONE
BEGIN:VEVENT
DTSTART;TZID=UTC:20260511T080000
DTEND;TZID=UTC:20260511T170000
DTSTAMP:20260421T143047
CREATED:20260217T194711Z
LAST-MODIFIED:20260217T194713Z
UID:10000503-1778486400-1778518800@elks590.org
SUMMARY:Regina Golf Meets
DESCRIPTION:
URL:https://elks590.org/event/regina-golf-meets/2026-05-11/
END:VEVENT
END:VCALENDAR