BEGIN:VCALENDAR
VERSION:2.0
PRODID:-//Elks Lodge 590 -  Iowa City, IA - ECPv6.15.20//NONSGML v1.0//EN
CALSCALE:GREGORIAN
METHOD:PUBLISH
X-WR-CALNAME:Elks Lodge 590 -  Iowa City, IA
X-ORIGINAL-URL:https://elks590.org
X-WR-CALDESC:Events for Elks Lodge 590 -  Iowa City, IA
REFRESH-INTERVAL;VALUE=DURATION:PT1H
X-Robots-Tag:noindex
X-PUBLISHED-TTL:PT1H
BEGIN:VTIMEZONE
TZID:UTC
BEGIN:STANDARD
TZOFFSETFROM:+0000
TZOFFSETTO:+0000
TZNAME:UTC
DTSTART:20240101T000000
END:STANDARD
END:VTIMEZONE
BEGIN:VEVENT
DTSTART;TZID=UTC:20260122T120000
DTEND;TZID=UTC:20260122T130000
DTSTAMP:20260420T162326
CREATED:20250612T125640Z
LAST-MODIFIED:20260212T123239Z
UID:10000170-1769083200-1769086800@elks590.org
SUMMARY:Iowa City Noon Rotary
DESCRIPTION:Every Thursday from 12:00 PM – 1:00 PM To join please contact Rotary directly \n\n\n\nThe Zoom option is still available athttps://us06web.zoom.us/j/81055444118?pwd=aEtYNXJ5L3F4dFAvK21BZTdVcmNZZz09  \n\n\n\nIf Zoom asks for a password it’s 502437. \n\n\n\nMeeting ID: 810 5544 4118 
URL:https://elks590.org/event/iowa-city-noon-rotary/2026-01-22/
CATEGORIES:Events
END:VEVENT
BEGIN:VEVENT
DTSTART;TZID=UTC:20260115T120000
DTEND;TZID=UTC:20260115T130000
DTSTAMP:20260420T162326
CREATED:20250612T125640Z
LAST-MODIFIED:20260212T123239Z
UID:10000169-1768478400-1768482000@elks590.org
SUMMARY:Iowa City Noon Rotary
DESCRIPTION:Every Thursday from 12:00 PM – 1:00 PM To join please contact Rotary directly \n\n\n\nThe Zoom option is still available athttps://us06web.zoom.us/j/81055444118?pwd=aEtYNXJ5L3F4dFAvK21BZTdVcmNZZz09  \n\n\n\nIf Zoom asks for a password it’s 502437. \n\n\n\nMeeting ID: 810 5544 4118 
URL:https://elks590.org/event/iowa-city-noon-rotary/2026-01-15/
CATEGORIES:Events
END:VEVENT
BEGIN:VEVENT
DTSTART;TZID=UTC:20260108T120000
DTEND;TZID=UTC:20260108T130000
DTSTAMP:20260420T162326
CREATED:20250612T125640Z
LAST-MODIFIED:20260212T123239Z
UID:10000168-1767873600-1767877200@elks590.org
SUMMARY:Iowa City Noon Rotary
DESCRIPTION:Every Thursday from 12:00 PM – 1:00 PM To join please contact Rotary directly \n\n\n\nThe Zoom option is still available athttps://us06web.zoom.us/j/81055444118?pwd=aEtYNXJ5L3F4dFAvK21BZTdVcmNZZz09  \n\n\n\nIf Zoom asks for a password it’s 502437. \n\n\n\nMeeting ID: 810 5544 4118 
URL:https://elks590.org/event/iowa-city-noon-rotary/2026-01-08/
CATEGORIES:Events
END:VEVENT
BEGIN:VEVENT
DTSTART;TZID=UTC:20260101T120000
DTEND;TZID=UTC:20260101T130000
DTSTAMP:20260420T162326
CREATED:20250612T125640Z
LAST-MODIFIED:20260212T123239Z
UID:10000167-1767268800-1767272400@elks590.org
SUMMARY:Iowa City Noon Rotary
DESCRIPTION:Every Thursday from 12:00 PM – 1:00 PM To join please contact Rotary directly \n\n\n\nThe Zoom option is still available athttps://us06web.zoom.us/j/81055444118?pwd=aEtYNXJ5L3F4dFAvK21BZTdVcmNZZz09  \n\n\n\nIf Zoom asks for a password it’s 502437. \n\n\n\nMeeting ID: 810 5544 4118 
URL:https://elks590.org/event/iowa-city-noon-rotary/2026-01-01/
CATEGORIES:Events
END:VEVENT
BEGIN:VEVENT
DTSTART;TZID=UTC:20251225T120000
DTEND;TZID=UTC:20251225T130000
DTSTAMP:20260420T162326
CREATED:20250612T125640Z
LAST-MODIFIED:20260212T123239Z
UID:10000166-1766664000-1766667600@elks590.org
SUMMARY:Iowa City Noon Rotary
DESCRIPTION:Every Thursday from 12:00 PM – 1:00 PM To join please contact Rotary directly \n\n\n\nThe Zoom option is still available athttps://us06web.zoom.us/j/81055444118?pwd=aEtYNXJ5L3F4dFAvK21BZTdVcmNZZz09  \n\n\n\nIf Zoom asks for a password it’s 502437. \n\n\n\nMeeting ID: 810 5544 4118 
URL:https://elks590.org/event/iowa-city-noon-rotary/2025-12-25/
CATEGORIES:Events
END:VEVENT
BEGIN:VEVENT
DTSTART;TZID=UTC:20251218T120000
DTEND;TZID=UTC:20251218T130000
DTSTAMP:20260420T162326
CREATED:20250612T125640Z
LAST-MODIFIED:20260212T123239Z
UID:10000165-1766059200-1766062800@elks590.org
SUMMARY:Iowa City Noon Rotary
DESCRIPTION:Every Thursday from 12:00 PM – 1:00 PM To join please contact Rotary directly \n\n\n\nThe Zoom option is still available athttps://us06web.zoom.us/j/81055444118?pwd=aEtYNXJ5L3F4dFAvK21BZTdVcmNZZz09  \n\n\n\nIf Zoom asks for a password it’s 502437. \n\n\n\nMeeting ID: 810 5544 4118 
URL:https://elks590.org/event/iowa-city-noon-rotary/2025-12-18/
CATEGORIES:Events
END:VEVENT
BEGIN:VEVENT
DTSTART;TZID=UTC:20251211T120000
DTEND;TZID=UTC:20251211T130000
DTSTAMP:20260420T162326
CREATED:20250612T125640Z
LAST-MODIFIED:20260212T123239Z
UID:10000164-1765454400-1765458000@elks590.org
SUMMARY:Iowa City Noon Rotary
DESCRIPTION:Every Thursday from 12:00 PM – 1:00 PM To join please contact Rotary directly \n\n\n\nThe Zoom option is still available athttps://us06web.zoom.us/j/81055444118?pwd=aEtYNXJ5L3F4dFAvK21BZTdVcmNZZz09  \n\n\n\nIf Zoom asks for a password it’s 502437. \n\n\n\nMeeting ID: 810 5544 4118 
URL:https://elks590.org/event/iowa-city-noon-rotary/2025-12-11/
CATEGORIES:Events
END:VEVENT
BEGIN:VEVENT
DTSTART;TZID=UTC:20251204T120000
DTEND;TZID=UTC:20251204T130000
DTSTAMP:20260420T162326
CREATED:20250612T125640Z
LAST-MODIFIED:20260212T123239Z
UID:10000163-1764849600-1764853200@elks590.org
SUMMARY:Iowa City Noon Rotary
DESCRIPTION:Every Thursday from 12:00 PM – 1:00 PM To join please contact Rotary directly \n\n\n\nThe Zoom option is still available athttps://us06web.zoom.us/j/81055444118?pwd=aEtYNXJ5L3F4dFAvK21BZTdVcmNZZz09  \n\n\n\nIf Zoom asks for a password it’s 502437. \n\n\n\nMeeting ID: 810 5544 4118 
URL:https://elks590.org/event/iowa-city-noon-rotary/2025-12-04/
CATEGORIES:Events
END:VEVENT
BEGIN:VEVENT
DTSTART;TZID=UTC:20251127T120000
DTEND;TZID=UTC:20251127T130000
DTSTAMP:20260420T162326
CREATED:20250612T125640Z
LAST-MODIFIED:20260212T123239Z
UID:10000162-1764244800-1764248400@elks590.org
SUMMARY:Iowa City Noon Rotary
DESCRIPTION:Every Thursday from 12:00 PM – 1:00 PM To join please contact Rotary directly \n\n\n\nThe Zoom option is still available athttps://us06web.zoom.us/j/81055444118?pwd=aEtYNXJ5L3F4dFAvK21BZTdVcmNZZz09  \n\n\n\nIf Zoom asks for a password it’s 502437. \n\n\n\nMeeting ID: 810 5544 4118 
URL:https://elks590.org/event/iowa-city-noon-rotary/2025-11-27/
CATEGORIES:Events
END:VEVENT
BEGIN:VEVENT
DTSTART;TZID=UTC:20251120T120000
DTEND;TZID=UTC:20251120T130000
DTSTAMP:20260420T162326
CREATED:20250612T125640Z
LAST-MODIFIED:20260212T123239Z
UID:10000161-1763640000-1763643600@elks590.org
SUMMARY:Iowa City Noon Rotary
DESCRIPTION:Every Thursday from 12:00 PM – 1:00 PM To join please contact Rotary directly \n\n\n\nThe Zoom option is still available athttps://us06web.zoom.us/j/81055444118?pwd=aEtYNXJ5L3F4dFAvK21BZTdVcmNZZz09  \n\n\n\nIf Zoom asks for a password it’s 502437. \n\n\n\nMeeting ID: 810 5544 4118 
URL:https://elks590.org/event/iowa-city-noon-rotary/2025-11-20/
CATEGORIES:Events
END:VEVENT
BEGIN:VEVENT
DTSTART;TZID=UTC:20251113T120000
DTEND;TZID=UTC:20251113T130000
DTSTAMP:20260420T162327
CREATED:20250612T125640Z
LAST-MODIFIED:20260212T123239Z
UID:10000160-1763035200-1763038800@elks590.org
SUMMARY:Iowa City Noon Rotary
DESCRIPTION:Every Thursday from 12:00 PM – 1:00 PM To join please contact Rotary directly \n\n\n\nThe Zoom option is still available athttps://us06web.zoom.us/j/81055444118?pwd=aEtYNXJ5L3F4dFAvK21BZTdVcmNZZz09  \n\n\n\nIf Zoom asks for a password it’s 502437. \n\n\n\nMeeting ID: 810 5544 4118 
URL:https://elks590.org/event/iowa-city-noon-rotary/2025-11-13/
CATEGORIES:Events
END:VEVENT
BEGIN:VEVENT
DTSTART;TZID=UTC:20251106T120000
DTEND;TZID=UTC:20251106T130000
DTSTAMP:20260420T162327
CREATED:20250612T125640Z
LAST-MODIFIED:20260212T123239Z
UID:10000159-1762430400-1762434000@elks590.org
SUMMARY:Iowa City Noon Rotary
DESCRIPTION:Every Thursday from 12:00 PM – 1:00 PM To join please contact Rotary directly \n\n\n\nThe Zoom option is still available athttps://us06web.zoom.us/j/81055444118?pwd=aEtYNXJ5L3F4dFAvK21BZTdVcmNZZz09  \n\n\n\nIf Zoom asks for a password it’s 502437. \n\n\n\nMeeting ID: 810 5544 4118 
URL:https://elks590.org/event/iowa-city-noon-rotary/2025-11-06/
CATEGORIES:Events
END:VEVENT
BEGIN:VEVENT
DTSTART;TZID=UTC:20251030T120000
DTEND;TZID=UTC:20251030T130000
DTSTAMP:20260420T162327
CREATED:20250612T125640Z
LAST-MODIFIED:20260212T123239Z
UID:10000158-1761825600-1761829200@elks590.org
SUMMARY:Iowa City Noon Rotary
DESCRIPTION:Every Thursday from 12:00 PM – 1:00 PM To join please contact Rotary directly \n\n\n\nThe Zoom option is still available athttps://us06web.zoom.us/j/81055444118?pwd=aEtYNXJ5L3F4dFAvK21BZTdVcmNZZz09  \n\n\n\nIf Zoom asks for a password it’s 502437. \n\n\n\nMeeting ID: 810 5544 4118 
URL:https://elks590.org/event/iowa-city-noon-rotary/2025-10-30/
CATEGORIES:Events
END:VEVENT
BEGIN:VEVENT
DTSTART;TZID=UTC:20251023T120000
DTEND;TZID=UTC:20251023T130000
DTSTAMP:20260420T162327
CREATED:20250612T125640Z
LAST-MODIFIED:20260212T123239Z
UID:10000157-1761220800-1761224400@elks590.org
SUMMARY:Iowa City Noon Rotary
DESCRIPTION:Every Thursday from 12:00 PM – 1:00 PM To join please contact Rotary directly \n\n\n\nThe Zoom option is still available athttps://us06web.zoom.us/j/81055444118?pwd=aEtYNXJ5L3F4dFAvK21BZTdVcmNZZz09  \n\n\n\nIf Zoom asks for a password it’s 502437. \n\n\n\nMeeting ID: 810 5544 4118 
URL:https://elks590.org/event/iowa-city-noon-rotary/2025-10-23/
CATEGORIES:Events
END:VEVENT
BEGIN:VEVENT
DTSTART;TZID=UTC:20251016T120000
DTEND;TZID=UTC:20251016T130000
DTSTAMP:20260420T162327
CREATED:20250612T125640Z
LAST-MODIFIED:20260212T123239Z
UID:10000156-1760616000-1760619600@elks590.org
SUMMARY:Iowa City Noon Rotary
DESCRIPTION:Every Thursday from 12:00 PM – 1:00 PM To join please contact Rotary directly \n\n\n\nThe Zoom option is still available athttps://us06web.zoom.us/j/81055444118?pwd=aEtYNXJ5L3F4dFAvK21BZTdVcmNZZz09  \n\n\n\nIf Zoom asks for a password it’s 502437. \n\n\n\nMeeting ID: 810 5544 4118 
URL:https://elks590.org/event/iowa-city-noon-rotary/2025-10-16/
CATEGORIES:Events
END:VEVENT
BEGIN:VEVENT
DTSTART;TZID=UTC:20251009T120000
DTEND;TZID=UTC:20251009T130000
DTSTAMP:20260420T162327
CREATED:20250612T125640Z
LAST-MODIFIED:20260212T123239Z
UID:10000155-1760011200-1760014800@elks590.org
SUMMARY:Iowa City Noon Rotary
DESCRIPTION:Every Thursday from 12:00 PM – 1:00 PM To join please contact Rotary directly \n\n\n\nThe Zoom option is still available athttps://us06web.zoom.us/j/81055444118?pwd=aEtYNXJ5L3F4dFAvK21BZTdVcmNZZz09  \n\n\n\nIf Zoom asks for a password it’s 502437. \n\n\n\nMeeting ID: 810 5544 4118 
URL:https://elks590.org/event/iowa-city-noon-rotary/2025-10-09/
CATEGORIES:Events
END:VEVENT
BEGIN:VEVENT
DTSTART;TZID=UTC:20251002T120000
DTEND;TZID=UTC:20251002T130000
DTSTAMP:20260420T162327
CREATED:20250612T125640Z
LAST-MODIFIED:20260212T123239Z
UID:10000154-1759406400-1759410000@elks590.org
SUMMARY:Iowa City Noon Rotary
DESCRIPTION:Every Thursday from 12:00 PM – 1:00 PM To join please contact Rotary directly \n\n\n\nThe Zoom option is still available athttps://us06web.zoom.us/j/81055444118?pwd=aEtYNXJ5L3F4dFAvK21BZTdVcmNZZz09  \n\n\n\nIf Zoom asks for a password it’s 502437. \n\n\n\nMeeting ID: 810 5544 4118 
URL:https://elks590.org/event/iowa-city-noon-rotary/2025-10-02/
CATEGORIES:Events
END:VEVENT
BEGIN:VEVENT
DTSTART;TZID=UTC:20250925T120000
DTEND;TZID=UTC:20250925T130000
DTSTAMP:20260420T162327
CREATED:20250612T125640Z
LAST-MODIFIED:20260212T123239Z
UID:10000153-1758801600-1758805200@elks590.org
SUMMARY:Iowa City Noon Rotary
DESCRIPTION:Every Thursday from 12:00 PM – 1:00 PM To join please contact Rotary directly \n\n\n\nThe Zoom option is still available athttps://us06web.zoom.us/j/81055444118?pwd=aEtYNXJ5L3F4dFAvK21BZTdVcmNZZz09  \n\n\n\nIf Zoom asks for a password it’s 502437. \n\n\n\nMeeting ID: 810 5544 4118 
URL:https://elks590.org/event/iowa-city-noon-rotary/2025-09-25/
CATEGORIES:Events
END:VEVENT
BEGIN:VEVENT
DTSTART;TZID=UTC:20250918T120000
DTEND;TZID=UTC:20250918T130000
DTSTAMP:20260420T162327
CREATED:20250612T125640Z
LAST-MODIFIED:20260212T123239Z
UID:10000152-1758196800-1758200400@elks590.org
SUMMARY:Iowa City Noon Rotary
DESCRIPTION:Every Thursday from 12:00 PM – 1:00 PM To join please contact Rotary directly \n\n\n\nThe Zoom option is still available athttps://us06web.zoom.us/j/81055444118?pwd=aEtYNXJ5L3F4dFAvK21BZTdVcmNZZz09  \n\n\n\nIf Zoom asks for a password it’s 502437. \n\n\n\nMeeting ID: 810 5544 4118 
URL:https://elks590.org/event/iowa-city-noon-rotary/2025-09-18/
CATEGORIES:Events
END:VEVENT
BEGIN:VEVENT
DTSTART;TZID=UTC:20250911T120000
DTEND;TZID=UTC:20250911T130000
DTSTAMP:20260420T162327
CREATED:20250612T125640Z
LAST-MODIFIED:20260212T123239Z
UID:10000151-1757592000-1757595600@elks590.org
SUMMARY:Iowa City Noon Rotary
DESCRIPTION:Every Thursday from 12:00 PM – 1:00 PM To join please contact Rotary directly \n\n\n\nThe Zoom option is still available athttps://us06web.zoom.us/j/81055444118?pwd=aEtYNXJ5L3F4dFAvK21BZTdVcmNZZz09  \n\n\n\nIf Zoom asks for a password it’s 502437. \n\n\n\nMeeting ID: 810 5544 4118 
URL:https://elks590.org/event/iowa-city-noon-rotary/2025-09-11/
CATEGORIES:Events
END:VEVENT
BEGIN:VEVENT
DTSTART;TZID=UTC:20250904T120000
DTEND;TZID=UTC:20250904T130000
DTSTAMP:20260420T162327
CREATED:20250612T125640Z
LAST-MODIFIED:20260212T123239Z
UID:10000150-1756987200-1756990800@elks590.org
SUMMARY:Iowa City Noon Rotary
DESCRIPTION:Every Thursday from 12:00 PM – 1:00 PM To join please contact Rotary directly \n\n\n\nThe Zoom option is still available athttps://us06web.zoom.us/j/81055444118?pwd=aEtYNXJ5L3F4dFAvK21BZTdVcmNZZz09  \n\n\n\nIf Zoom asks for a password it’s 502437. \n\n\n\nMeeting ID: 810 5544 4118 
URL:https://elks590.org/event/iowa-city-noon-rotary/2025-09-04/
CATEGORIES:Events
END:VEVENT
BEGIN:VEVENT
DTSTART;TZID=UTC:20250828T120000
DTEND;TZID=UTC:20250828T130000
DTSTAMP:20260420T162327
CREATED:20250612T125640Z
LAST-MODIFIED:20260212T123239Z
UID:10000149-1756382400-1756386000@elks590.org
SUMMARY:Iowa City Noon Rotary
DESCRIPTION:Every Thursday from 12:00 PM – 1:00 PM To join please contact Rotary directly \n\n\n\nThe Zoom option is still available athttps://us06web.zoom.us/j/81055444118?pwd=aEtYNXJ5L3F4dFAvK21BZTdVcmNZZz09  \n\n\n\nIf Zoom asks for a password it’s 502437. \n\n\n\nMeeting ID: 810 5544 4118 
URL:https://elks590.org/event/iowa-city-noon-rotary/2025-08-28/
CATEGORIES:Events
END:VEVENT
BEGIN:VEVENT
DTSTART;TZID=UTC:20250821T120000
DTEND;TZID=UTC:20250821T130000
DTSTAMP:20260420T162327
CREATED:20250612T125640Z
LAST-MODIFIED:20260212T123239Z
UID:10000148-1755777600-1755781200@elks590.org
SUMMARY:Iowa City Noon Rotary
DESCRIPTION:Every Thursday from 12:00 PM – 1:00 PM To join please contact Rotary directly \n\n\n\nThe Zoom option is still available athttps://us06web.zoom.us/j/81055444118?pwd=aEtYNXJ5L3F4dFAvK21BZTdVcmNZZz09  \n\n\n\nIf Zoom asks for a password it’s 502437. \n\n\n\nMeeting ID: 810 5544 4118 
URL:https://elks590.org/event/iowa-city-noon-rotary/2025-08-21/
CATEGORIES:Events
END:VEVENT
BEGIN:VEVENT
DTSTART;TZID=UTC:20250814T120000
DTEND;TZID=UTC:20250814T130000
DTSTAMP:20260420T162327
CREATED:20250612T125640Z
LAST-MODIFIED:20260212T123239Z
UID:10000147-1755172800-1755176400@elks590.org
SUMMARY:Iowa City Noon Rotary
DESCRIPTION:Every Thursday from 12:00 PM – 1:00 PM To join please contact Rotary directly \n\n\n\nThe Zoom option is still available athttps://us06web.zoom.us/j/81055444118?pwd=aEtYNXJ5L3F4dFAvK21BZTdVcmNZZz09  \n\n\n\nIf Zoom asks for a password it’s 502437. \n\n\n\nMeeting ID: 810 5544 4118 
URL:https://elks590.org/event/iowa-city-noon-rotary/2025-08-14/
CATEGORIES:Events
END:VEVENT
BEGIN:VEVENT
DTSTART;TZID=UTC:20250807T120000
DTEND;TZID=UTC:20250807T130000
DTSTAMP:20260420T162327
CREATED:20250612T125640Z
LAST-MODIFIED:20260212T123239Z
UID:10000146-1754568000-1754571600@elks590.org
SUMMARY:Iowa City Noon Rotary
DESCRIPTION:Every Thursday from 12:00 PM – 1:00 PM To join please contact Rotary directly \n\n\n\nThe Zoom option is still available athttps://us06web.zoom.us/j/81055444118?pwd=aEtYNXJ5L3F4dFAvK21BZTdVcmNZZz09  \n\n\n\nIf Zoom asks for a password it’s 502437. \n\n\n\nMeeting ID: 810 5544 4118 
URL:https://elks590.org/event/iowa-city-noon-rotary/2025-08-07/
CATEGORIES:Events
END:VEVENT
BEGIN:VEVENT
DTSTART;TZID=UTC:20250731T120000
DTEND;TZID=UTC:20250731T130000
DTSTAMP:20260420T162327
CREATED:20250612T125640Z
LAST-MODIFIED:20260212T123239Z
UID:10000145-1753963200-1753966800@elks590.org
SUMMARY:Iowa City Noon Rotary
DESCRIPTION:Every Thursday from 12:00 PM – 1:00 PM To join please contact Rotary directly \n\n\n\nThe Zoom option is still available athttps://us06web.zoom.us/j/81055444118?pwd=aEtYNXJ5L3F4dFAvK21BZTdVcmNZZz09  \n\n\n\nIf Zoom asks for a password it’s 502437. \n\n\n\nMeeting ID: 810 5544 4118 
URL:https://elks590.org/event/iowa-city-noon-rotary/2025-07-31/
CATEGORIES:Events
END:VEVENT
BEGIN:VEVENT
DTSTART;TZID=UTC:20250726T080000
DTEND;TZID=UTC:20250727T130000
DTSTAMP:20260420T162327
CREATED:20250727T080028Z
LAST-MODIFIED:20250604T214910Z
UID:10000032-1753516800-1753621200@elks590.org
SUMMARY:Men's Club Championship
DESCRIPTION:Men’s Golf Members Only
URL:https://elks590.org/event/mens-club-championship-2/
CATEGORIES:Events,Tournament
END:VEVENT
BEGIN:VEVENT
DTSTART;TZID=UTC:20250724T120000
DTEND;TZID=UTC:20250724T130000
DTSTAMP:20260420T162327
CREATED:20250612T125640Z
LAST-MODIFIED:20260212T123239Z
UID:10000144-1753358400-1753362000@elks590.org
SUMMARY:Iowa City Noon Rotary
DESCRIPTION:Every Thursday from 12:00 PM – 1:00 PM To join please contact Rotary directly \n\n\n\nThe Zoom option is still available athttps://us06web.zoom.us/j/81055444118?pwd=aEtYNXJ5L3F4dFAvK21BZTdVcmNZZz09  \n\n\n\nIf Zoom asks for a password it’s 502437. \n\n\n\nMeeting ID: 810 5544 4118 
URL:https://elks590.org/event/iowa-city-noon-rotary/2025-07-24/
CATEGORIES:Events
END:VEVENT
BEGIN:VEVENT
DTSTART;TZID=UTC:20250717T120000
DTEND;TZID=UTC:20250717T130000
DTSTAMP:20260420T162327
CREATED:20250612T125640Z
LAST-MODIFIED:20260212T123239Z
UID:10000143-1752753600-1752757200@elks590.org
SUMMARY:Iowa City Noon Rotary
DESCRIPTION:Every Thursday from 12:00 PM – 1:00 PM To join please contact Rotary directly \n\n\n\nThe Zoom option is still available athttps://us06web.zoom.us/j/81055444118?pwd=aEtYNXJ5L3F4dFAvK21BZTdVcmNZZz09  \n\n\n\nIf Zoom asks for a password it’s 502437. \n\n\n\nMeeting ID: 810 5544 4118 
URL:https://elks590.org/event/iowa-city-noon-rotary/2025-07-17/
CATEGORIES:Events
END:VEVENT
BEGIN:VEVENT
DTSTART;TZID=UTC:20250710T120000
DTEND;TZID=UTC:20250710T130000
DTSTAMP:20260420T162327
CREATED:20250612T125640Z
LAST-MODIFIED:20260212T123239Z
UID:10000142-1752148800-1752152400@elks590.org
SUMMARY:Iowa City Noon Rotary
DESCRIPTION:Every Thursday from 12:00 PM – 1:00 PM To join please contact Rotary directly \n\n\n\nThe Zoom option is still available athttps://us06web.zoom.us/j/81055444118?pwd=aEtYNXJ5L3F4dFAvK21BZTdVcmNZZz09  \n\n\n\nIf Zoom asks for a password it’s 502437. \n\n\n\nMeeting ID: 810 5544 4118 
URL:https://elks590.org/event/iowa-city-noon-rotary/2025-07-10/
CATEGORIES:Events
END:VEVENT
END:VCALENDAR